BEGIN:VCALENDAR
VERSION:2.0
PRODID:icalendar-ruby
CALSCALE:GREGORIAN
BEGIN:VEVENT
DTSTAMP:20260421T163404Z
UID:ea780f82-c752-46d1-b371-b9b549675774
DTSTART;VALUE=DATE:20260319
DESCRIPTION:Property ID# 604577\, Locatoin: 8-12 The Promenade Takapuna (Un
 less Sold Prior)\, Time: 10:00AM
SUMMARY:Auction for 26A Camelot Place
END:VEVENT
END:VCALENDAR
