BEGIN:VCALENDAR
VERSION:2.0
PRODID:icalendar-ruby
CALSCALE:GREGORIAN
BEGIN:VEVENT
DTSTAMP:20260422T093704Z
UID:4d290a8e-7ee6-4962-a1e1-801770e9651c
DTSTART;VALUE=DATE:20260305
DESCRIPTION:Property ID# 603564\, Locatoin: 8-12 The Promenade Takapuna (Un
 less Sold Prior)\, Time: 10:00AM
SUMMARY:Auction for 39 Ngataringa Road
END:VEVENT
END:VCALENDAR
