BEGIN:VCALENDAR
VERSION:2.0
PRODID:icalendar-ruby
CALSCALE:GREGORIAN
BEGIN:VEVENT
DTSTAMP:20260421T162647Z
UID:8d28ae90-848b-46fb-97c9-f20a7c17bb5a
DTSTART;VALUE=DATE:20260226
DESCRIPTION:Property ID# 603349\, Locatoin: 8-12 The Promenade Takapuna (Un
 less Sold Prior)\, Time: 10:00AM
SUMMARY:Auction for 
END:VEVENT
END:VCALENDAR
