BEGIN:VCALENDAR
VERSION:2.0
PRODID:icalendar-ruby
CALSCALE:GREGORIAN
BEGIN:VEVENT
DTSTAMP:20260421T163404Z
UID:9b4f3c38-c5dd-4cb6-ba66-2e38664ceb1d
DTSTART;VALUE=DATE:20250226
DESCRIPTION:Property ID# 588026\, Locatoin: 39 Victoria Road\, Devonport (U
 nless sold prior)\, Time: 12:00PM
SUMMARY:Auction for 
END:VEVENT
END:VCALENDAR
