BEGIN:VCALENDAR
VERSION:2.0
PRODID:icalendar-ruby
CALSCALE:GREGORIAN
BEGIN:VEVENT
DTSTAMP:20260423T023241Z
UID:d24f452c-f5d5-4eb9-b6ad-c4530d05ca46
DTSTART;VALUE=DATE:20210217
DESCRIPTION:Property ID# 500523\, Locatoin: 39 Victoria Road\, Devonport (B
 ranch Office)\, Time: 12:00PM
SUMMARY:Auction for 
END:VEVENT
END:VCALENDAR
