BEGIN:VCALENDAR
VERSION:2.0
PRODID:icalendar-ruby
CALSCALE:GREGORIAN
BEGIN:VEVENT
DTSTAMP:20260422T082105Z
UID:356d9163-f256-4573-881e-0985db7225b8
DTSTART;VALUE=DATE:20201119
DESCRIPTION:Property ID# 493610\, Time: 6:30PM
SUMMARY:Auction for 
END:VEVENT
END:VCALENDAR
