BEGIN:VCALENDAR
VERSION:2.0
PRODID:icalendar-ruby
CALSCALE:GREGORIAN
BEGIN:VEVENT
DTSTAMP:20210121T231010Z
UID:e962d82e-888c-487f-a2c9-f42444c99e2b
DTSTART;TZID=Pacific/Auckland:20210120T123000
DTEND;TZID=Pacific/Auckland:20210120T130000
DESCRIPTION:Property ID# 499652
SUMMARY:Openhome for 
END:VEVENT
END:VCALENDAR
