BEGIN:VCALENDAR
VERSION:2.0
PRODID:icalendar-ruby
CALSCALE:GREGORIAN
BEGIN:VEVENT
DTSTAMP:20210121T231428Z
UID:01948861-d593-408f-a5fb-84c9a4493d99
DTSTART;TZID=Pacific/Auckland:20210123T113000
DTEND;TZID=Pacific/Auckland:20210123T120000
DESCRIPTION:Property ID# 499942
SUMMARY:Openhome for 
END:VEVENT
END:VCALENDAR
