BEGIN:VCALENDAR
VERSION:2.0
PRODID:icalendar-ruby
CALSCALE:GREGORIAN
BEGIN:VEVENT
DTSTAMP:20210121T231430Z
UID:ccb9e5c3-a15c-47c3-88e2-b32f5cbb356e
DTSTART;VALUE=DATE:20210207
DESCRIPTION:Property ID# 499942\, Locatoin: On Site\, Time: 12:00PM
SUMMARY:Auction for 
END:VEVENT
END:VCALENDAR
