BEGIN:VCALENDAR
VERSION:2.0
PRODID:icalendar-ruby
CALSCALE:GREGORIAN
BEGIN:VEVENT
DTSTAMP:20210121T231011Z
UID:a5ec8346-d534-43bd-ae6e-1f392b2f3b32
DTSTART;VALUE=DATE:20210120
DESCRIPTION:Property ID# 499652\, Locatoin: On site\, Time: 1:00PM
SUMMARY:Auction for 
END:VEVENT
END:VCALENDAR
