BEGIN:VCALENDAR
VERSION:2.0
PRODID:icalendar-ruby
CALSCALE:GREGORIAN
BEGIN:VEVENT
DTSTAMP:20210121T231018Z
UID:606e64ee-4912-4c11-af90-d7384b209310
DTSTART;VALUE=DATE:20201217
DESCRIPTION:Property ID# 496853\, Locatoin: Bruce Mason Centre\, Takapuna\,
  Time: 12:00PM
SUMMARY:Auction for 2/10  Merani Street
END:VEVENT
END:VCALENDAR
