BEGIN:VCALENDAR
VERSION:2.0
PRODID:icalendar-ruby
CALSCALE:GREGORIAN
BEGIN:VEVENT
DTSTAMP:20210121T232058Z
UID:92475e9f-9d8a-469d-9912-9b8a4c23b1af
DTSTART;VALUE=DATE:20201214
DESCRIPTION:Property ID# 496454\, Time: 12:00PM
SUMMARY:Auction for 
END:VEVENT
END:VCALENDAR
