BEGIN:VCALENDAR
VERSION:2.0
PRODID:icalendar-ruby
CALSCALE:GREGORIAN
BEGIN:VEVENT
DTSTAMP:20210121T231433Z
UID:8a4ae19f-a1b6-49f2-9b68-b324b50e8552
DTSTART;VALUE=DATE:20201213
DESCRIPTION:Property ID# 496094\, Locatoin: On Site\, Time: 2:00PM
SUMMARY:Auction for 
END:VEVENT
END:VCALENDAR
