BEGIN:VCALENDAR
VERSION:2.0
PRODID:icalendar-ruby
CALSCALE:GREGORIAN
BEGIN:VEVENT
DTSTAMP:20210121T231431Z
UID:4e4dc664-59da-4a7b-9ace-e20da3da9347
DTSTART;VALUE=DATE:20201209
DESCRIPTION:Property ID# 496093\, Time: 1:30PM
SUMMARY:Auction for 
END:VEVENT
END:VCALENDAR
