BEGIN:VCALENDAR
VERSION:2.0
PRODID:icalendar-ruby
CALSCALE:GREGORIAN
BEGIN:VEVENT
DTSTAMP:20210121T231434Z
UID:48adc081-b27a-4089-9650-e9bb97d0a7be
DTSTART;VALUE=DATE:20201125
DESCRIPTION:Property ID# 495690\, Locatoin: 128 Hurstmere Road\, Takapuna  
 In Rooms\, Time: 4:30PM
SUMMARY:Auction for 
END:VEVENT
END:VCALENDAR
