BEGIN:VCALENDAR
VERSION:2.0
PRODID:icalendar-ruby
CALSCALE:GREGORIAN
BEGIN:VEVENT
DTSTAMP:20210121T231436Z
UID:30164b25-e09e-4d2a-958f-101950976075
DTSTART;VALUE=DATE:20201129
DESCRIPTION:Property ID# 494954\, Locatoin: On Site\, Time: 3:00PM
SUMMARY:Auction for 
END:VEVENT
END:VCALENDAR
