BEGIN:VCALENDAR
VERSION:2.0
PRODID:icalendar-ruby
CALSCALE:GREGORIAN
BEGIN:VEVENT
DTSTAMP:20210121T231518Z
UID:e4245282-deb6-464e-8aa3-d7313551cc26
DTSTART;VALUE=DATE:20201126
DESCRIPTION:Property ID# 493842\, Time: 12:00PM
SUMMARY:Auction for 
END:VEVENT
END:VCALENDAR
