BEGIN:VCALENDAR
VERSION:2.0
PRODID:icalendar-ruby
CALSCALE:GREGORIAN
BEGIN:VEVENT
DTSTAMP:20210121T231024Z
UID:8fc4dda5-ec5d-4107-9d91-17b6bb1c29e7
DTSTART;VALUE=DATE:20201115
DESCRIPTION:Property ID# 492669\, Locatoin: 25 Norwwod Rd. Bayswater.\, Tim
 e: 2:30PM
SUMMARY:Auction for 
END:VEVENT
END:VCALENDAR
