BEGIN:VCALENDAR
VERSION:2.0
PRODID:icalendar-ruby
CALSCALE:GREGORIAN
BEGIN:VEVENT
DTSTAMP:20210121T231437Z
UID:bb0123b2-54ff-4caf-b1e7-edf1c17574f4
DTSTART;VALUE=DATE:20201101
DESCRIPTION:Property ID# 491145\, Locatoin: On Site\, Time: 4:00PM
SUMMARY:Auction for 
END:VEVENT
END:VCALENDAR
