BEGIN:VCALENDAR
VERSION:2.0
PRODID:icalendar-ruby
CALSCALE:GREGORIAN
BEGIN:VEVENT
DTSTAMP:20210121T232100Z
UID:161f31ba-4636-444d-a8ae-f5f94c219b9d
DTSTART;VALUE=DATE:20201012
DESCRIPTION:Property ID# 490566\, Time: 12:00PM
SUMMARY:Auction for 
END:VEVENT
END:VCALENDAR
