BEGIN:VCALENDAR
VERSION:2.0
PRODID:icalendar-ruby
CALSCALE:GREGORIAN
BEGIN:VEVENT
DTSTAMP:20210121T231439Z
UID:945cd901-bba1-437a-bf17-547cbd781114
DTSTART;VALUE=DATE:20200920
DESCRIPTION:Property ID# 486974\, Locatoin: On site\, Time: 3:00PM
SUMMARY:Auction for 
END:VEVENT
END:VCALENDAR
