BEGIN:VCALENDAR
VERSION:2.0
PRODID:icalendar-ruby
CALSCALE:GREGORIAN
BEGIN:VEVENT
DTSTAMP:20260424T151409Z
UID:2ef682e5-424d-4407-916d-95cb8c07385e
DTSTART;VALUE=DATE:20200628
DESCRIPTION:Property ID# 482278\, Locatoin: On Site\, Time: 1:00PM
SUMMARY:Auction for 
END:VEVENT
END:VCALENDAR
