BEGIN:VCALENDAR
VERSION:2.0
PRODID:icalendar-ruby
CALSCALE:GREGORIAN
BEGIN:VEVENT
DTSTAMP:20210121T231442Z
UID:1506af70-9d91-4c76-9b7c-ce30e544b864
DTSTART;VALUE=DATE:20200611
DESCRIPTION:Property ID# 480462\, Locatoin: In Rooms\, 128 Hurstmere Road\,
  Takapuna\, Time: 6:30PM
SUMMARY:Auction for 
END:VEVENT
END:VCALENDAR
