BEGIN:VCALENDAR
VERSION:2.0
PRODID:icalendar-ruby
CALSCALE:GREGORIAN
BEGIN:VEVENT
DTSTAMP:20210121T231445Z
UID:cdb23633-be8f-4e7b-baa9-b2535e6b94e6
DTSTART;VALUE=DATE:20200322
DESCRIPTION:Property ID# 475607\, Locatoin: On Site\, Time: 1:00PM
SUMMARY:Auction for 
END:VEVENT
END:VCALENDAR
