BEGIN:VCALENDAR
VERSION:2.0
PRODID:icalendar-ruby
CALSCALE:GREGORIAN
BEGIN:VEVENT
DTSTAMP:20210121T231443Z
UID:2c6ab987-df6a-445f-8043-86c2d68b1de6
DTSTART;VALUE=DATE:20200402
DESCRIPTION:Property ID# 475020\, Locatoin: On Site \, Time: 1:00PM
SUMMARY:Auction for 
END:VEVENT
END:VCALENDAR
