BEGIN:VCALENDAR
VERSION:2.0
PRODID:icalendar-ruby
CALSCALE:GREGORIAN
BEGIN:VEVENT
DTSTAMP:20210121T232103Z
UID:8d8a94b2-5c09-416f-b97f-aef21d4ddc14
DTSTART;VALUE=DATE:20200315
DESCRIPTION:Property ID# 474496\, Time: 12:00PM
SUMMARY:Auction for 
END:VEVENT
END:VCALENDAR
