BEGIN:VCALENDAR
VERSION:2.0
PRODID:icalendar-ruby
CALSCALE:GREGORIAN
BEGIN:VEVENT
DTSTAMP:20210121T231446Z
UID:30ad7faa-46d0-4e9e-b163-faae85d9611c
DTSTART;VALUE=DATE:20200308
DESCRIPTION:Property ID# 472730\, Locatoin: On Site\, Time: 5:00PM
SUMMARY:Auction for 
END:VEVENT
END:VCALENDAR
