BEGIN:VCALENDAR
VERSION:2.0
PRODID:icalendar-ruby
CALSCALE:GREGORIAN
BEGIN:VEVENT
DTSTAMP:20210121T232110Z
UID:dec7a679-3d00-4ad9-b72c-61c64107412e
DTSTART;VALUE=DATE:20200305
DESCRIPTION:Property ID# 472677\, Locatoin: 18 Clarence Street\, Time: 4:00
 PM
SUMMARY:Auction for 
END:VEVENT
END:VCALENDAR
