BEGIN:VCALENDAR
VERSION:2.0
PRODID:icalendar-ruby
CALSCALE:GREGORIAN
BEGIN:VEVENT
DTSTAMP:20210121T231512Z
UID:d23a5e7b-fc3c-40cb-b307-6d9538e016c0
DTSTART;VALUE=DATE:20200301
DESCRIPTION:Property ID# 472393\, Locatoin: Onsite\, Time: 3:00PM
SUMMARY:Auction for 
END:VEVENT
END:VCALENDAR
