BEGIN:VCALENDAR
VERSION:2.0
PRODID:icalendar-ruby
CALSCALE:GREGORIAN
BEGIN:VEVENT
DTSTAMP:20210121T232111Z
UID:ab6eb4b4-0cfd-43b2-a8e0-89f4854cae4f
DTSTART;VALUE=DATE:20200216
DESCRIPTION:Property ID# 470986\, Time: 1:00PM
SUMMARY:Auction for 
END:VEVENT
END:VCALENDAR
