BEGIN:VCALENDAR
VERSION:2.0
PRODID:icalendar-ruby
CALSCALE:GREGORIAN
BEGIN:VEVENT
DTSTAMP:20210121T232113Z
UID:263696ff-1957-4f0f-a1c6-b56e99783c09
DTSTART;VALUE=DATE:20200202
DESCRIPTION:Property ID# 470351\, Locatoin: on site\, Time: 11:00AM
SUMMARY:Auction for 
END:VEVENT
END:VCALENDAR
