BEGIN:VCALENDAR
VERSION:2.0
PRODID:icalendar-ruby
CALSCALE:GREGORIAN
BEGIN:VEVENT
DTSTAMP:20210121T231451Z
UID:32505ce6-0e78-4395-b6cb-498d9a5c7a2a
DTSTART;VALUE=DATE:20191222
DESCRIPTION:Property ID# 468811\, Locatoin: On Site\, Time: 12:00PM
SUMMARY:Auction for 
END:VEVENT
END:VCALENDAR
