BEGIN:VCALENDAR
VERSION:2.0
PRODID:icalendar-ruby
CALSCALE:GREGORIAN
BEGIN:VEVENT
DTSTAMP:20210121T232114Z
UID:87491ae5-b345-4925-8adc-ac731a2930ef
DTSTART;VALUE=DATE:20200205
DESCRIPTION:Property ID# 467674\, Locatoin: 18 Clarence Street\, Time: 12:0
 0PM
SUMMARY:Auction for 
END:VEVENT
END:VCALENDAR
