BEGIN:VCALENDAR
VERSION:2.0
PRODID:icalendar-ruby
CALSCALE:GREGORIAN
BEGIN:VEVENT
DTSTAMP:20210121T231522Z
UID:53fb9b3b-4cfa-45bc-a9c2-c5d8775383f0
DTSTART;VALUE=DATE:20191208
DESCRIPTION:Property ID# 467673\, Time: 12:00PM
SUMMARY:Auction for 
END:VEVENT
END:VCALENDAR
