BEGIN:VCALENDAR
VERSION:2.0
PRODID:icalendar-ruby
CALSCALE:GREGORIAN
BEGIN:VEVENT
DTSTAMP:20210121T231453Z
UID:b928882a-973f-445e-9e87-5a067ba8873d
DTSTART;VALUE=DATE:20191201
DESCRIPTION:Property ID# 466917\, Locatoin: On Site\, Time: 10:00AM
SUMMARY:Auction for 
END:VEVENT
END:VCALENDAR
