BEGIN:VCALENDAR
VERSION:2.0
PRODID:icalendar-ruby
CALSCALE:GREGORIAN
BEGIN:VEVENT
DTSTAMP:20260424T151415Z
UID:c4c8f00e-af00-4480-adf2-733e4874c61f
DTSTART;VALUE=DATE:20191110
DESCRIPTION:Property ID# 464669\, Time: 12:00PM
SUMMARY:Auction for 
END:VEVENT
END:VCALENDAR
