BEGIN:VCALENDAR
VERSION:2.0
PRODID:icalendar-ruby
CALSCALE:GREGORIAN
BEGIN:VEVENT
DTSTAMP:20210121T231458Z
UID:a14fc946-5645-4977-aa8d-86faeaa8f6b5
DTSTART;VALUE=DATE:20191103
DESCRIPTION:Property ID# 463961\, Locatoin: On Site\, Time: 2:00PM
SUMMARY:Auction for 
END:VEVENT
END:VCALENDAR
