BEGIN:VCALENDAR
VERSION:2.0
PRODID:icalendar-ruby
CALSCALE:GREGORIAN
BEGIN:VEVENT
DTSTAMP:20210121T231524Z
UID:5de3f317-7533-443c-86fb-8a1b6dce1819
DTSTART;VALUE=DATE:20191003
DESCRIPTION:Property ID# 461111\, Time: 12:00PM
SUMMARY:Auction for 
END:VEVENT
END:VCALENDAR
